BEGIN:VCALENDAR
VERSION:2.0
BEGIN:VTIMEZONE
CALSCALE:GREGORIAN
UID:608297b242072
TZID:Europe/Luxembourg
END:VTIMEZONE
BEGIN:VEVENT
CLASS:PUBLIC
DESCRIPTION:Adeline Plume et son Orchestre (1ère séance).
DTSTART:20160501T120000Z
LOCATION:L\'Entrepôt
SUMMARY:Les Aralunaires
TRANSP:TRANSPARENT
END:VEVENT
END:VCALENDAR
