BEGIN:VCALENDAR
VERSION:2.0
BEGIN:VTIMEZONE
CALSCALE:GREGORIAN
UID:608297af06d17
TZID:Europe/Luxembourg
END:VTIMEZONE
BEGIN:VEVENT
CLASS:PUBLIC
DESCRIPTION:Essaie Pas\, Andre Bratten live\, YellowStraps x Le Motel\, Norset.d.
DTSTART:20160430T190000Z
LOCATION:Le Palais
SUMMARY:Les Aralunaires
TRANSP:TRANSPARENT
END:VEVENT
END:VCALENDAR
