BEGIN:VCALENDAR
VERSION:2.0
BEGIN:VTIMEZONE
CALSCALE:GREGORIAN
UID:608297b59d156
TZID:Europe/Luxembourg
END:VTIMEZONE
BEGIN:VEVENT
CLASS:PUBLIC
DESCRIPTION:Fortune Collective\, Le Colisée\, Lomboy\, Marc Melià\, Tape Tum.
DTSTART:20160501T160000Z
LOCATION:Ancien Café du Nord
SUMMARY:Les Aralunaires
TRANSP:TRANSPARENT
END:VEVENT
END:VCALENDAR
