BEGIN:VCALENDAR
VERSION:2.0
BEGIN:VTIMEZONE
CALSCALE:GREGORIAN
UID:608297a2e1199
TZID:Europe/Luxembourg
END:VTIMEZONE
BEGIN:VEVENT
CLASS:PUBLIC
DESCRIPTION:Girls Names\, Ulrika Spacek\, Telegram.
DTSTART:20160428T180000Z
LOCATION:L\'Entrepôt
SUMMARY:Les Aralunaires
TRANSP:TRANSPARENT
END:VEVENT
END:VCALENDAR
