BEGIN:VCALENDAR
VERSION:2.0
BEGIN:VTIMEZONE
CALSCALE:GREGORIAN
UID:608297a9e6b52
TZID:Europe/Luxembourg
END:VTIMEZONE
BEGIN:VEVENT
CLASS:PUBLIC
DESCRIPTION:Redfish And Sunny\'s\, White Wolf\, Igor Gehenot & Philippe Aerts\, Rudy Trouvé\, Josh Oudendijk\, LiA\, Gaetan Streel\, Polly Horse Club.
DTSTART:20160430T113000Z
LOCATION:Dans toute la ville
SUMMARY:Les Aralunaires
TRANSP:TRANSPARENT
END:VEVENT
END:VCALENDAR
