BEGIN:VCALENDAR
VERSION:2.0
BEGIN:VTIMEZONE
CALSCALE:GREGORIAN
UID:6082979dedf31
TZID:Europe/Luxembourg
END:VTIMEZONE
BEGIN:VEVENT
CLASS:PUBLIC
DESCRIPTION:Sharko\, Italian Boyfriend.
DTSTART:20160427T180000Z
LOCATION:Entrepôt Caméo Meubles
SUMMARY:Les Aralunaires
TRANSP:TRANSPARENT
END:VEVENT
END:VCALENDAR
