BEGIN:VCALENDAR
VERSION:2.0
BEGIN:VTIMEZONE
CALSCALE:GREGORIAN
UID:608297abac31b
TZID:Europe/Luxembourg
END:VTIMEZONE
BEGIN:VEVENT
CLASS:PUBLIC
DESCRIPTION:Songs for the Deaf (Tribute Queens of the Stone Age)\, Bulls On Parade (Tribute Rage Against The Machine)\, Mr. Moustache (Tribute Nirvana)\, Mobilhead (Tribute Motörhead).
DTSTART:20160430T120000Z
LOCATION:La Knipchen
SUMMARY:Les Aralunaires
TRANSP:TRANSPARENT
END:VEVENT
END:VCALENDAR
