BEGIN:VCALENDAR
VERSION:2.0
BEGIN:VTIMEZONE
CALSCALE:GREGORIAN
UID:608297ec4ddc3
TZID:Europe/Luxembourg
END:VTIMEZONE
BEGIN:VEVENT
CLASS:PUBLIC
DESCRIPTION:Ouverture des portes
DTSTART:20160609T180000Z
LOCATION:5 Avenue du Rock\'n\'Roll\, 4083 Esch-sur-Alzette\, Luxembourg
SUMMARY:Tango Live Music
TRANSP:TRANSPARENT
END:VEVENT
END:VCALENDAR
